BEGIN:VCALENDAR
CALSCALE:GREGORIAN
METHOD:PUBLISH
VERSION:2.0
PRODID:-//iCalWriter OpenSource Project//iCalWriter 0.8.1//EN
BEGIN:VEVENT
DTSTAMP:20260425T135522Z
UID:1777125322Gfmc@veranstaltungen.brain-scc.de
DTSTART;VALUE=DATE:20230616
DTEND;VALUE=DATE:20230616
SUMMARY:OZG-Praxistag 2023
DESCRIPTION:Am 16. Juni 2023 möchten wir Ihnen im Rahmen des bundesweiten Digitaltages mit dem OZG-Praxistag einen Online-Erfahrungsaustausch im Rahmen der Umsetzung des Onlinezugangsgesetzes (OZG) anbieten. Im Laufe der letzten Jahre hat sich gezeigt, wie wichtig onlinebasierte Angebote der Verwaltung sind. Der OZG-Praxistag steht ganz im Zeichen der praktischen Umsetzung von Online-Verwaltungsleistungen. Neben der Theorie kommen an diesem Tag vor allem die Praktiker zu Wort und berichten von Ihren praktischen Erfahrungen bei der OZG-Umsetzung.
Der OZG-Praxistag wird von uns als reine Onlineveranstaltung geplant. Alle Referentinnen und Referenten werden online zugeschalten und die Veranstaltung wird als Online-Seminar für alle interessierten Teilnehmenden online übertragen.
Der OZG-Praxistag richtet sich ausschließlich an unsere Kunden und Interessierte aus dem Bereich der öffentlichen Verwaltungen. Die Teilnahme an der Veranstaltung ist für Sie kostenfrei.
Weitere Informationen zur Veranstaltung finden Sie auf unserer Webseite unter ozg-praxistag.brain-scc.de.
LOCATION:Online-Event 
		06217 Merseburg
	
brain-SCC GmbH 06217 Merseburg
URL:https://veranstaltungen.brain-scc.de/de/termin-detail/event/44177,1142/ozg-praxistag-2023-16-06-2023.html
ATTACH:https://veranstaltungen.brain-scc.de/de/datei/anzeigen/id/44178,1142/brain_scc_anzeige_1080x1080px_ozg_praxistag_clean.png
END:VEVENT
END:VCALENDAR
