BEGIN:VCALENDAR
CALSCALE:GREGORIAN
METHOD:PUBLISH
VERSION:2.0
PRODID:-//iCalWriter OpenSource Project//iCalWriter 0.8.1//EN
BEGIN:VEVENT
DTSTAMP:20260425T134658Z
UID:1777124818YWKh@veranstaltungen.brain-scc.de
DTSTART;VALUE=DATE:20230830
DTEND;VALUE=DATE:20230831
SUMMARY:15. brain-SCC Anwendertag und Merseburger Digitaltage 2023
DESCRIPTION:Am 30. und 31. August 2023 findet unser 15. brain-SCC Anwendertag im Rahmen der Merseburger Digitaltage 2023 auf dem Campus der Hochschule Merseburg statt. Freuen Sie sich auf interessante Themen und (Praxis-)Beiträge rund um die Digitalisierung der Verwaltung und unser brain-GeoCMS®.
Gemeinsam mit zahlreichen Partnern und weiteren Fachverfahrensherstellern führen wir unseren diesjährigen brain-SCC Anwendertag wieder im Rahmen der Merseburger Digitaltage an der Hochschule Merseburg durch. Wir freuen uns darauf, Sie wieder persönlich bei uns in Merseburg begrüßen zu können. Rund um unseren Anwendertag erwartet Sie ein interessantes Rahmenprogramm mit unterschiedlichsten Beiträgen zu digitale Themen.
Weitere Informationen zur Veranstaltung finden Sie unter https://anwendertag.brain-scc.de und https://www.Merseburger-Digitaltage.de.
LOCATION:Hochschule Merseburg 06217 Merseburg
brain-SCC GmbH 06217 Merseburg
Merseburger Innovations- und Technologiezentrum (mitz) 06217 Merseburg
URL:https://veranstaltungen.brain-scc.de/de/termin-detail/event/39428,1142/15-brain-scc-anwendertag-und-merseburger-digitaltage-2023-30-08-2023.html
ATTACH:https://veranstaltungen.brain-scc.de/de/datei/anzeigen/id/44212,1142/merseburger-digitaltage-15-anwendertag-2023-quadrat.png
END:VEVENT
END:VCALENDAR
